BEGIN:VCALENDAR
VERSION:2.0
PRODID:-//New Covenant Christian Church - ECPv6.15.11//NONSGML v1.0//EN
CALSCALE:GREGORIAN
METHOD:PUBLISH
X-WR-CALNAME:New Covenant Christian Church
X-ORIGINAL-URL:https://nccchouston.com
X-WR-CALDESC:Events for New Covenant Christian Church
REFRESH-INTERVAL;VALUE=DURATION:PT1H
X-Robots-Tag:noindex
X-PUBLISHED-TTL:PT1H
BEGIN:VTIMEZONE
TZID:America/New_York
BEGIN:DAYLIGHT
TZOFFSETFROM:-0500
TZOFFSETTO:-0400
TZNAME:EDT
DTSTART:20230312T070000
END:DAYLIGHT
BEGIN:STANDARD
TZOFFSETFROM:-0400
TZOFFSETTO:-0500
TZNAME:EST
DTSTART:20231105T060000
END:STANDARD
BEGIN:DAYLIGHT
TZOFFSETFROM:-0500
TZOFFSETTO:-0400
TZNAME:EDT
DTSTART:20240310T070000
END:DAYLIGHT
BEGIN:STANDARD
TZOFFSETFROM:-0400
TZOFFSETTO:-0500
TZNAME:EST
DTSTART:20241103T060000
END:STANDARD
BEGIN:DAYLIGHT
TZOFFSETFROM:-0500
TZOFFSETTO:-0400
TZNAME:EDT
DTSTART:20250309T070000
END:DAYLIGHT
BEGIN:STANDARD
TZOFFSETFROM:-0400
TZOFFSETTO:-0500
TZNAME:EST
DTSTART:20251102T060000
END:STANDARD
END:VTIMEZONE
BEGIN:VEVENT
DTSTART;TZID=America/New_York:20240108T190000
DTEND;TZID=America/New_York:20240108T190000
DTSTAMP:20260420T104711
CREATED:20240106T153402Z
LAST-MODIFIED:20240106T153409Z
UID:1129-1704740400-1704740400@nccchouston.com
SUMMARY:Leadership Meeting
DESCRIPTION:Good morning all Departmental Leaders.  Bishop Hines will hold his monthly meeting Monday night\, January 8th at 7:00pm via Zoom.  Please plan to attend accordingly.
URL:https://nccchouston.com/event/leadership-meeting-3/
LOCATION:New Convenant Christian Church\, 10603 Blackhawk Blvd\, Houston\, TX\, 77089\, United States
END:VEVENT
BEGIN:VEVENT
DTSTART;TZID=America/New_York:20240117T183000
DTEND;TZID=America/New_York:20240117T193000
DTSTAMP:20260420T104711
CREATED:20240106T153836Z
LAST-MODIFIED:20240106T153836Z
UID:1131-1705516200-1705519800@nccchouston.com
SUMMARY:First of the Year Fast
DESCRIPTION:New Covenant’s First of the Year Fast will begin on Jan. 17th running until Jan 26th. This 10-Day Fast will be held via Zoom from 6:30-7:30pm (nightly).  Thank you!
URL:https://nccchouston.com/event/first-of-the-year-fast/
LOCATION:New Convenant Christian Church\, 10603 Blackhawk Blvd\, Houston\, TX\, 77089\, United States
END:VEVENT
BEGIN:VEVENT
DTSTART;TZID=America/New_York:20240118T183000
DTEND;TZID=America/New_York:20240118T193000
DTSTAMP:20260420T104711
CREATED:20240106T160357Z
LAST-MODIFIED:20240106T160357Z
UID:1133-1705602600-1705606200@nccchouston.com
SUMMARY:First of the Year Fast
DESCRIPTION:New Covenant’s First of the Year Fast will begin on Jan. 17th running until Jan 26th. This 10-Day Fast will be held via Zoom from 6:30-7:30pm (nightly).  Thank you!
URL:https://nccchouston.com/event/first-of-the-year-fast-2/
LOCATION:New Convenant Christian Church\, 10603 Blackhawk Blvd\, Houston\, TX\, 77089\, United States
END:VEVENT
BEGIN:VEVENT
DTSTART;TZID=America/New_York:20240119T063000
DTEND;TZID=America/New_York:20240119T193000
DTSTAMP:20260420T104711
CREATED:20240106T160508Z
LAST-MODIFIED:20240106T161528Z
UID:1135-1705645800-1705692600@nccchouston.com
SUMMARY:First of the Year Fast
DESCRIPTION:New Covenant’s First of the Year Fast will begin on Jan. 17th running until Jan 26th. This 10-Day Fast will be held via Zoom from 6:30-7:30pm (nightly).  Thank you!
URL:https://nccchouston.com/event/first-of-the-year-fast-3/
LOCATION:New Convenant Christian Church\, 10603 Blackhawk Blvd\, Houston\, TX\, 77089\, United States
END:VEVENT
BEGIN:VEVENT
DTSTART;TZID=America/New_York:20240120T183000
DTEND;TZID=America/New_York:20240120T193000
DTSTAMP:20260420T104711
CREATED:20240106T162744Z
LAST-MODIFIED:20240106T162752Z
UID:1137-1705775400-1705779000@nccchouston.com
SUMMARY:First of the Year Fast
DESCRIPTION:New Covenant’s First of the Year Fast will begin on Jan. 17th running until Jan 26th. This 10-Day Fast will be held via Zoom from 6:30-7:30pm (nightly).  Thank you!
URL:https://nccchouston.com/event/first-of-the-year-fast-4/
LOCATION:New Convenant Christian Church\, 10603 Blackhawk Blvd\, Houston\, TX\, 77089\, United States
END:VEVENT
BEGIN:VEVENT
DTSTART;TZID=America/New_York:20240121T063000
DTEND;TZID=America/New_York:20240121T193000
DTSTAMP:20260420T104711
CREATED:20240107T174053Z
LAST-MODIFIED:20240107T174104Z
UID:1139-1705818600-1705865400@nccchouston.com
SUMMARY:First of the Year Fast
DESCRIPTION:New Covenant’s First of the Year Fast will begin on Jan. 17th running until Jan 26th. This 10-Day Fast will be held via Zoom from 6:30-7:30pm (nightly).  Thank you!
URL:https://nccchouston.com/event/first-of-the-year-fast-5/
LOCATION:New Convenant Christian Church\, 10603 Blackhawk Blvd\, Houston\, TX\, 77089\, United States
END:VEVENT
BEGIN:VEVENT
DTSTART;TZID=America/New_York:20240122T183000
DTEND;TZID=America/New_York:20240122T193000
DTSTAMP:20260420T104711
CREATED:20240107T174348Z
LAST-MODIFIED:20240107T174413Z
UID:1141-1705948200-1705951800@nccchouston.com
SUMMARY:First of the Year Fast
DESCRIPTION:New Covenant’s First of the Year Fast will begin on Jan. 17th running until Jan 26th. This 10-Day Fast will be held via Zoom from 6:30-7:30pm (nightly).  Thank you!
URL:https://nccchouston.com/event/first-of-the-year-fast-6/
LOCATION:New Convenant Christian Church\, 10603 Blackhawk Blvd\, Houston\, TX\, 77089\, United States
END:VEVENT
BEGIN:VEVENT
DTSTART;TZID=America/New_York:20240123T183000
DTEND;TZID=America/New_York:20240123T193000
DTSTAMP:20260420T104711
CREATED:20240107T174502Z
LAST-MODIFIED:20240107T174508Z
UID:1143-1706034600-1706038200@nccchouston.com
SUMMARY:First of the Year Fast
DESCRIPTION:New Covenant’s First of the Year Fast will begin on Jan. 17th running until Jan 26th. This 10-Day Fast will be held via Zoom from 6:30-7:30pm (nightly).  Thank you!
URL:https://nccchouston.com/event/first-of-the-year-fast-7/
LOCATION:New Convenant Christian Church\, 10603 Blackhawk Blvd\, Houston\, TX\, 77089\, United States
END:VEVENT
BEGIN:VEVENT
DTSTART;TZID=America/New_York:20240124T183000
DTEND;TZID=America/New_York:20240124T193000
DTSTAMP:20260420T104711
CREATED:20240107T174550Z
LAST-MODIFIED:20240107T174556Z
UID:1145-1706121000-1706124600@nccchouston.com
SUMMARY:First of the Year Fast
DESCRIPTION:New Covenant’s First of the Year Fast will begin on Jan. 17th running until Jan 26th. This 10-Day Fast will be held via Zoom from 6:30-7:30pm (nightly).  Thank you!
URL:https://nccchouston.com/event/first-of-the-year-fast-8/
LOCATION:New Convenant Christian Church\, 10603 Blackhawk Blvd\, Houston\, TX\, 77089\, United States
END:VEVENT
BEGIN:VEVENT
DTSTART;TZID=America/New_York:20240125T183000
DTEND;TZID=America/New_York:20240125T193000
DTSTAMP:20260420T104711
CREATED:20240107T174651Z
LAST-MODIFIED:20240107T174657Z
UID:1147-1706207400-1706211000@nccchouston.com
SUMMARY:First of the Year Fast
DESCRIPTION:New Covenant’s First of the Year Fast will begin on Jan. 17th running until Jan 26th. This 10-Day Fast will be held via Zoom from 6:30-7:30pm (nightly).  Thank you!
URL:https://nccchouston.com/event/first-of-the-year-fast-9/
LOCATION:New Convenant Christian Church\, 10603 Blackhawk Blvd\, Houston\, TX\, 77089\, United States
END:VEVENT
BEGIN:VEVENT
DTSTART;TZID=America/New_York:20240126T183000
DTEND;TZID=America/New_York:20240126T193000
DTSTAMP:20260420T104711
CREATED:20240107T174743Z
LAST-MODIFIED:20240107T174750Z
UID:1149-1706293800-1706297400@nccchouston.com
SUMMARY:First of the Year Fast
DESCRIPTION:New Covenant’s First of the Year Fast will begin on Jan. 17th running until Jan 26th. This 10-Day Fast will be held via Zoom from 6:30-7:30pm (nightly).  Thank you!
URL:https://nccchouston.com/event/first-of-the-year-fast-10/
LOCATION:New Convenant Christian Church\, 10603 Blackhawk Blvd\, Houston\, TX\, 77089\, United States
END:VEVENT
END:VCALENDAR