BEGIN:VCALENDAR
VERSION:2.0
PRODID:-//New Covenant Christian Church - ECPv6.15.11//NONSGML v1.0//EN
CALSCALE:GREGORIAN
METHOD:PUBLISH
X-WR-CALNAME:New Covenant Christian Church
X-ORIGINAL-URL:https://nccchouston.com
X-WR-CALDESC:Events for New Covenant Christian Church
REFRESH-INTERVAL;VALUE=DURATION:PT1H
X-Robots-Tag:noindex
X-PUBLISHED-TTL:PT1H
BEGIN:VTIMEZONE
TZID:America/New_York
BEGIN:DAYLIGHT
TZOFFSETFROM:-0500
TZOFFSETTO:-0400
TZNAME:EDT
DTSTART:20230312T070000
END:DAYLIGHT
BEGIN:STANDARD
TZOFFSETFROM:-0400
TZOFFSETTO:-0500
TZNAME:EST
DTSTART:20231105T060000
END:STANDARD
BEGIN:DAYLIGHT
TZOFFSETFROM:-0500
TZOFFSETTO:-0400
TZNAME:EDT
DTSTART:20240310T070000
END:DAYLIGHT
BEGIN:STANDARD
TZOFFSETFROM:-0400
TZOFFSETTO:-0500
TZNAME:EST
DTSTART:20241103T060000
END:STANDARD
BEGIN:DAYLIGHT
TZOFFSETFROM:-0500
TZOFFSETTO:-0400
TZNAME:EDT
DTSTART:20250309T070000
END:DAYLIGHT
BEGIN:STANDARD
TZOFFSETFROM:-0400
TZOFFSETTO:-0500
TZNAME:EST
DTSTART:20251102T060000
END:STANDARD
END:VTIMEZONE
BEGIN:VEVENT
DTSTART;TZID=America/New_York:20240413T100000
DTEND;TZID=America/New_York:20240413T100000
DTSTAMP:20260420T173427
CREATED:20240420T111711Z
LAST-MODIFIED:20240420T111726Z
UID:1226-1713002400-1713002400@nccchouston.com
SUMMARY:SWIF Meeting
DESCRIPTION:
URL:https://nccchouston.com/event/swif-meeting-3/
LOCATION:New Convenant Christian Church\, 10603 Blackhawk Blvd\, Houston\, TX\, 77089\, United States
END:VEVENT
BEGIN:VEVENT
DTSTART;TZID=America/New_York:20240413T110000
DTEND;TZID=America/New_York:20240413T150000
DTSTAMP:20260420T173427
CREATED:20240420T111853Z
LAST-MODIFIED:20240420T111914Z
UID:1228-1713006000-1713020400@nccchouston.com
SUMMARY:Spring Festival Cook-Off
DESCRIPTION:
URL:https://nccchouston.com/event/spring-festival-cook-off/
LOCATION:New Convenant Christian Church\, 10603 Blackhawk Blvd\, Houston\, TX\, 77089\, United States
END:VEVENT
END:VCALENDAR