BEGIN:VCALENDAR
VERSION:2.0
PRODID:-//New Covenant Christian Church - ECPv6.15.11//NONSGML v1.0//EN
CALSCALE:GREGORIAN
METHOD:PUBLISH
X-ORIGINAL-URL:https://nccchouston.com
X-WR-CALDESC:Events for New Covenant Christian Church
REFRESH-INTERVAL;VALUE=DURATION:PT1H
X-Robots-Tag:noindex
X-PUBLISHED-TTL:PT1H
BEGIN:VTIMEZONE
TZID:America/New_York
BEGIN:DAYLIGHT
TZOFFSETFROM:-0500
TZOFFSETTO:-0400
TZNAME:EDT
DTSTART:20230312T070000
END:DAYLIGHT
BEGIN:STANDARD
TZOFFSETFROM:-0400
TZOFFSETTO:-0500
TZNAME:EST
DTSTART:20231105T060000
END:STANDARD
BEGIN:DAYLIGHT
TZOFFSETFROM:-0500
TZOFFSETTO:-0400
TZNAME:EDT
DTSTART:20240310T070000
END:DAYLIGHT
BEGIN:STANDARD
TZOFFSETFROM:-0400
TZOFFSETTO:-0500
TZNAME:EST
DTSTART:20241103T060000
END:STANDARD
BEGIN:DAYLIGHT
TZOFFSETFROM:-0500
TZOFFSETTO:-0400
TZNAME:EDT
DTSTART:20250309T070000
END:DAYLIGHT
BEGIN:STANDARD
TZOFFSETFROM:-0400
TZOFFSETTO:-0500
TZNAME:EST
DTSTART:20251102T060000
END:STANDARD
END:VTIMEZONE
BEGIN:VEVENT
DTSTART;TZID=America/New_York:20240309T090000
DTEND;TZID=America/New_York:20240309T110000
DTSTAMP:20260420T154048
CREATED:20240420T114348Z
LAST-MODIFIED:20240420T114354Z
UID:1246-1709974800-1709982000@nccchouston.com
SUMMARY:Outreach
DESCRIPTION:
URL:https://nccchouston.com/event/outreach/
LOCATION:New Convenant Christian Church\, 10603 Blackhawk Blvd\, Houston\, TX\, 77089\, United States
END:VEVENT
BEGIN:VEVENT
DTSTART;TZID=America/New_York:20240309T100000
DTEND;TZID=America/New_York:20240309T100000
DTSTAMP:20260420T154048
CREATED:20240420T114445Z
LAST-MODIFIED:20240420T114454Z
UID:1248-1709978400-1709978400@nccchouston.com
SUMMARY:SWIF Meeting
DESCRIPTION:
URL:https://nccchouston.com/event/swif-meeting-4/
LOCATION:New Convenant Christian Church\, 10603 Blackhawk Blvd\, Houston\, TX\, 77089\, United States
END:VEVENT
BEGIN:VEVENT
DTSTART;TZID=America/New_York:20240309T120000
DTEND;TZID=America/New_York:20240309T130000
DTSTAMP:20260420T154048
CREATED:20240420T114551Z
LAST-MODIFIED:20240420T114558Z
UID:1250-1709985600-1709989200@nccchouston.com
SUMMARY:Food Pantry Distribution
DESCRIPTION:
URL:https://nccchouston.com/event/food-pantry-distribution-4/
LOCATION:New Convenant Christian Church\, 10603 Blackhawk Blvd\, Houston\, TX\, 77089\, United States
END:VEVENT
END:VCALENDAR