BEGIN:VCALENDAR
VERSION:2.0
PRODID:-//New Covenant Christian Church - ECPv6.15.11//NONSGML v1.0//EN
CALSCALE:GREGORIAN
METHOD:PUBLISH
X-ORIGINAL-URL:https://nccchouston.com
X-WR-CALDESC:Events for New Covenant Christian Church
REFRESH-INTERVAL;VALUE=DURATION:PT1H
X-Robots-Tag:noindex
X-PUBLISHED-TTL:PT1H
BEGIN:VTIMEZONE
TZID:America/New_York
BEGIN:DAYLIGHT
TZOFFSETFROM:-0500
TZOFFSETTO:-0400
TZNAME:EDT
DTSTART:20230312T070000
END:DAYLIGHT
BEGIN:STANDARD
TZOFFSETFROM:-0400
TZOFFSETTO:-0500
TZNAME:EST
DTSTART:20231105T060000
END:STANDARD
BEGIN:DAYLIGHT
TZOFFSETFROM:-0500
TZOFFSETTO:-0400
TZNAME:EDT
DTSTART:20240310T070000
END:DAYLIGHT
BEGIN:STANDARD
TZOFFSETFROM:-0400
TZOFFSETTO:-0500
TZNAME:EST
DTSTART:20241103T060000
END:STANDARD
BEGIN:DAYLIGHT
TZOFFSETFROM:-0500
TZOFFSETTO:-0400
TZNAME:EDT
DTSTART:20250309T070000
END:DAYLIGHT
BEGIN:STANDARD
TZOFFSETFROM:-0400
TZOFFSETTO:-0500
TZNAME:EST
DTSTART:20251102T060000
END:STANDARD
END:VTIMEZONE
BEGIN:VEVENT
DTSTART;TZID=America/New_York:20240204T090000
DTEND;TZID=America/New_York:20240204T090000
DTSTAMP:20260420T125024
CREATED:20240107T175216Z
LAST-MODIFIED:20240107T175222Z
UID:1151-1707037200-1707037200@nccchouston.com
SUMMARY:New Covenant Church 29th Anniversary
DESCRIPTION:New Covenant will be celebrating our 29th Church Anniversary on Sunday\, February 4th at 9am where Bishop E. James Logan will be our special Guest.  Please be sure to attend this joyous occasion. Thank you!
URL:https://nccchouston.com/event/new-covenant-church-29th-anniversary/
LOCATION:New Convenant Christian Church\, 10603 Blackhawk Blvd\, Houston\, TX\, 77089\, United States
ATTACH;FMTTYPE=image/jpeg:https://nccchouston.com/wp-content/uploads/2024/01/NCCC-church-anni-copy-scaled-e1740996936231.jpg
END:VEVENT
END:VCALENDAR