BEGIN:VCALENDAR
VERSION:2.0
PRODID:-//New Covenant Christian Church - ECPv6.15.11//NONSGML v1.0//EN
CALSCALE:GREGORIAN
METHOD:PUBLISH
X-ORIGINAL-URL:https://nccchouston.com
X-WR-CALDESC:Events for New Covenant Christian Church
REFRESH-INTERVAL;VALUE=DURATION:PT1H
X-Robots-Tag:noindex
X-PUBLISHED-TTL:PT1H
BEGIN:VTIMEZONE
TZID:America/New_York
BEGIN:DAYLIGHT
TZOFFSETFROM:-0500
TZOFFSETTO:-0400
TZNAME:EDT
DTSTART:20230312T070000
END:DAYLIGHT
BEGIN:STANDARD
TZOFFSETFROM:-0400
TZOFFSETTO:-0500
TZNAME:EST
DTSTART:20231105T060000
END:STANDARD
BEGIN:DAYLIGHT
TZOFFSETFROM:-0500
TZOFFSETTO:-0400
TZNAME:EDT
DTSTART:20240310T070000
END:DAYLIGHT
BEGIN:STANDARD
TZOFFSETFROM:-0400
TZOFFSETTO:-0500
TZNAME:EST
DTSTART:20241103T060000
END:STANDARD
BEGIN:DAYLIGHT
TZOFFSETFROM:-0500
TZOFFSETTO:-0400
TZNAME:EDT
DTSTART:20250309T070000
END:DAYLIGHT
BEGIN:STANDARD
TZOFFSETFROM:-0400
TZOFFSETTO:-0500
TZNAME:EST
DTSTART:20251102T060000
END:STANDARD
END:VTIMEZONE
BEGIN:VEVENT
DTSTART;TZID=America/New_York:20240125T183000
DTEND;TZID=America/New_York:20240125T193000
DTSTAMP:20260420T125312
CREATED:20240107T174651Z
LAST-MODIFIED:20240107T174657Z
UID:1147-1706207400-1706211000@nccchouston.com
SUMMARY:First of the Year Fast
DESCRIPTION:New Covenant’s First of the Year Fast will begin on Jan. 17th running until Jan 26th. This 10-Day Fast will be held via Zoom from 6:30-7:30pm (nightly).  Thank you!
URL:https://nccchouston.com/event/first-of-the-year-fast-9/
LOCATION:New Convenant Christian Church\, 10603 Blackhawk Blvd\, Houston\, TX\, 77089\, United States
END:VEVENT
END:VCALENDAR